BEGIN:VCALENDAR
VERSION:2.0
PRODID:-//Library Market//iCal Export//EN
BEGIN:VEVENT
SUMMARY:Virtual Author Talk - Nir Eyal
UID:66718
DTSTAMP:20260425T194100Z
DTSTART:20260519T180000Z
DTEND:20260519T190000Z
LOCATION:
DESCRIPTION:Reshape Your Beliefs and Unlock Your True Potential with Nir E
 yalInternationally Bestselling Author of Hooked and IndistractableTuesday,
  May 19th 2026 at 12:00 PMWhat if the only thing standing between you and 
 the seemingly impossible…was belief? This is the question posed by bests
 elling author Nir Eyal in his new work, Beyond Belief. Most of your limit
 s aren’t physical. They’re psychological. In Beyond Belief, Nir Eyal r
 eveals how the hidden assumptions you carry shape what you see, how you fe
 el, and what you do—and how to replace them with beliefs that unlock you
 r true potential.Grounded in neuroscience, psychology, and unforgettable c
 ase studies, Eyal introduces the Three Powers of Belief: Attention, Antici
 pation, and Agency. Mastering these powers transforms how you see challeng
 es, feel about the future, and act when it matters most.You’ll learn how
  to:Spot hidden opportunities and solutions others overlook.Reclaim your m
 ood, energy, and confidence by reshaping your beliefs.Stay calm, decisive,
  and in control when life feels uncertain.Break free from beliefs that sab
 otage your health, relationships, and career.Push further, last longer, an
 d achieve beyond your limits.If you’ve ever quit too soon, stalled in yo
 ur career, or sabotaged your own goals, this book gives you the science an
 d the system to go further than you thought possible.Surgeries without ane
 sthesia. Placebos that heal. Resilience multiplied 240 times longer. Beyon
 d Belief reveals the science behind these breakthroughs and shows why your
  limits aren’t fixed—they’re learned. And with the right beliefs, yo
 u can achieve breakthrough results.Register now to learn more about how we
  can unlock our true potential. About the Author:Nir Eyal writes, consult
 s, and teaches about the intersection of psychology, technology, and human
  potential. He previously taught at the Stanford Graduate School of Busine
 ss and the Hasso Plattner Institute of Design at Stanford. He is the autho
 r of the international bestsellers Hooked: How to Build Habit-Forming Prod
 ucts and Indistractable: How to Control Your Attention and Choose Your Lif
 e, which have sold over 1 million copies in more than 30 languages. As an 
 active angel investor, Nir has backed multi-billion-dollar companies that 
 implement his methodologies, including Canva, Kahoot!, and others. In addi
 tion to blogging at NirAndFar.com, his writing has been featured in The Ne
 w York Times and Harvard Business Review, and he is a regular contributor 
 to Psychology Today.
URL:https://daviscounty.librarycalendar.com/event/virtual-author-talk-nir-
 eyal-66718
END:VEVENT
END:VCALENDAR
