BEGIN:VCALENDAR
VERSION:2.0
PRODID:-//Library Market//iCal Export//EN
BEGIN:VEVENT
SUMMARY:Co-op Reading Group
UID:66582
DTSTAMP:20260423T142700Z
DTSTART:20260423T163000Z
DTEND:20260423T170000Z
LOCATION:215 N Fairfield Rd, Kaysville, UT 84037, United States
ROOM: Auditorium (KYV)
DESCRIPTION:A homeschool co-op looking to get together to read as a group.
  There will be adult supervision and no food or drinks.
URL:https://daviscounty.librarycalendar.com/event/co-op-reading-group-6658
 2
END:VEVENT
END:VCALENDAR
