BEGIN:VCALENDAR
VERSION:2.0
PRODID:-//Library Market//iCal Export//EN
BEGIN:VEVENT
SUMMARY:Bountiful Main Street Easter Egg Hunt
UID:66524
DTSTAMP:20260425T194100Z
DTSTART:20260403T060000Z
DTEND:20260403T060000Z
LOCATION:Davis County Library, 85 N Main St., Bountiful, UT 84010, United 
 States
ROOM: Bountiful Main Street Easter Egg Hunt
DESCRIPTION:
URL:https://daviscounty.librarycalendar.com/event/bountiful-main-street-ea
 ster-egg-hunt-66524
END:VEVENT
END:VCALENDAR
