BEGIN:VCALENDAR
VERSION:2.0
PRODID:-//Library Market//iCal Export//EN
BEGIN:VEVENT
SUMMARY:SUP Chapter Meeting
UID:66432
DTSTAMP:20260425T103600Z
DTSTART:20261007T000000Z
DTEND:20261007T020000Z
LOCATION:215 N Fairfield Rd, Kaysville, UT 84037, United States
ROOM: Auditorium (KYV)
DESCRIPTION:Discuss Utah History
URL:https://daviscounty.librarycalendar.com/event/sup-chapter-meeting-6643
 2
END:VEVENT
END:VCALENDAR
