BEGIN:VCALENDAR
VERSION:2.0
PRODID:-//Library Market//iCal Export//EN
BEGIN:VEVENT
SUMMARY:Read with a Bunny
UID:66420
DTSTAMP:20260423T172700Z
DTSTART:20260429T184500Z
DTEND:20260429T190000Z
LOCATION:133 S Main St, Farmington, UT 84025, United States
ROOM: Small Conference Room (HD)
DESCRIPTION:Read with a bunny at the library! Your family can sign up for 
 a 10-15 minute slot to read with a bunny.
URL:https://daviscounty.librarycalendar.com/event/read-bunny-66420
END:VEVENT
END:VCALENDAR
