BEGIN:VCALENDAR
VERSION:2.0
PRODID:-//Library Market//iCal Export//EN
BEGIN:VEVENT
SUMMARY:Tax Seminar
UID:66326
DTSTAMP:20260422T213300Z
DTSTART:20260506T230000Z
DTEND:20260507T020000Z
LOCATION:1 N Main St, Clearfield, UT 84015, United States
ROOM: Auditorium (CLFD)
DESCRIPTION:Financial company providing information to attendees about tax
 es, estate planning and social security.
URL:https://daviscounty.librarycalendar.com/event/tax-seminar-66326
END:VEVENT
END:VCALENDAR
