BEGIN:VCALENDAR
VERSION:2.0
PRODID:-//Library Market//iCal Export//EN
BEGIN:VEVENT
SUMMARY:Group performance
UID:66115
DTSTAMP:20260426T033100Z
DTSTART:20260424T213000Z
DTEND:20260424T231500Z
LOCATION:1875 S 2000 W, Syracuse, UT 84075, United States
ROOM: Auditorium (SYR)
DESCRIPTION:Group singing performance
URL:https://daviscounty.librarycalendar.com/event/group-performance-66115
END:VEVENT
END:VCALENDAR
