BEGIN:VCALENDAR
VERSION:2.0
PRODID:-//Library Market//iCal Export//EN
BEGIN:VEVENT
SUMMARY:Three Sisters Planting
UID:66032
DTSTAMP:20260423T221500Z
DTSTART:20260504T060000Z
DTEND:20260509T060000Z
LOCATION:155 N Wasatch Dr, Layton, UT 84041, United States
ROOM: Three Sisters Planting
DESCRIPTION:Take home a peat pot to decorate and then use the Three Sister
 s planting method to grow your veggies!
URL:https://daviscounty.librarycalendar.com/event/three-sisters-planting-6
 6032
END:VEVENT
END:VCALENDAR
