BEGIN:VCALENDAR
VERSION:2.0
PRODID:-//Library Market//iCal Export//EN
BEGIN:VEVENT
SUMMARY:Foundation Preschool Program
UID:65999
DTSTAMP:20260423T071500Z
DTSTART:20260513T174500Z
DTEND:20260513T193000Z
LOCATION:1875 S 2000 W, Syracuse, UT 84075, United States
ROOM: Auditorium (SYR)
DESCRIPTION:Preschool program
URL:https://daviscounty.librarycalendar.com/event/foundation-preschool-659
 99
END:VEVENT
END:VCALENDAR
