BEGIN:VCALENDAR
VERSION:2.0
PRODID:-//Library Market//iCal Export//EN
BEGIN:VEVENT
SUMMARY:Play and Learn
UID:65928
DTSTAMP:20260421T132600Z
DTSTART:20260424T170000Z
DTEND:20260424T180000Z
LOCATION:45 S 400 W, Centerville, UT 84014, United States
ROOM: Auditorium (CTV)
DESCRIPTION:
URL:https://daviscounty.librarycalendar.com/event/play-and-learn-65928
END:VEVENT
END:VCALENDAR
