BEGIN:VCALENDAR
VERSION:2.0
PRODID:-//Library Market//iCal Export//EN
BEGIN:VEVENT
SUMMARY:Play and Learn
UID:65916
DTSTAMP:20260419T172700Z
DTSTART:20260130T180000Z
DTEND:20260130T190000Z
LOCATION:45 S 400 W, Centerville, UT 84014, United States
ROOM: Auditorium (CTV)
DESCRIPTION:
URL:https://daviscounty.librarycalendar.com/event/play-and-learn-65916
END:VEVENT
END:VCALENDAR
