BEGIN:VCALENDAR
VERSION:2.0
PRODID:-//Library Market//iCal Export//EN
BEGIN:VEVENT
SUMMARY:Educators&#039; Book Group
UID:65866
DTSTAMP:20260423T071500Z
DTSTART:20260928T190000Z
DTEND:20260928T210000Z
LOCATION:45 S 400 W, Centerville, UT 84014, United States
ROOM: Auditorium (CTV)
DESCRIPTION:Women gathering to review book.
URL:https://daviscounty.librarycalendar.com/event/educators-book-group-658
 66
END:VEVENT
END:VCALENDAR
