BEGIN:VCALENDAR
VERSION:2.0
PRODID:-//Library Market//iCal Export//EN
BEGIN:VEVENT
SUMMARY:Read With a Therapy Dog
UID:65856
DTSTAMP:20260423T071500Z
DTSTART:20260505T160000Z
DTEND:20260505T161500Z
LOCATION:133 S Main St, Farmington, UT 84025, United States
ROOM: Small Conference Room (HD)
DESCRIPTION:Read with a therapy dog at the library! Your family can sign u
 p for a 10-15 minute slot to read with a dog. If this slot is filled, sea
 rch https://bit.ly/42CKwXE for other time slots for this date at this bran
 ch or search &quot;therapy dog&quot; as a keyword search for opportunities
  at other locations.
URL:https://daviscounty.librarycalendar.com/event/copy-read-therapy-dog-65
 856
END:VEVENT
END:VCALENDAR
