BEGIN:VCALENDAR
VERSION:2.0
PRODID:-//Library Market//iCal Export//EN
BEGIN:VEVENT
SUMMARY:Preschool Graduation
UID:65762
DTSTAMP:20260424T132000Z
DTSTART:20260521T163000Z
DTEND:20260521T213000Z
LOCATION:45 S 400 W, Centerville, UT 84014, United States
ROOM: Auditorium (CTV)
DESCRIPTION:Preschool end of year musical program
URL:https://daviscounty.librarycalendar.com/event/preschool-graduation-657
 62
END:VEVENT
END:VCALENDAR
