BEGIN:VCALENDAR
VERSION:2.0
PRODID:-//Library Market//iCal Export//EN
BEGIN:VEVENT
SUMMARY:Davis County Beekeepers Association
UID:65699
DTSTAMP:20260425T232000Z
DTSTART:20260911T000000Z
DTEND:20260911T020000Z
LOCATION:215 N Fairfield Rd, Kaysville, UT 84037, United States
ROOM: Auditorium (KYV)
DESCRIPTION:The Davis County Beekeepers Association provides information f
 or the commercial and backyard beekeepers in the proper way to raise bees 
 to comply with good practices and laws in the county.
URL:https://daviscounty.librarycalendar.com/event/davis-county-beekeepers-
 association-65699
END:VEVENT
END:VCALENDAR
