BEGIN:VCALENDAR
VERSION:2.0
PRODID:-//Library Market//iCal Export//EN
BEGIN:VEVENT
SUMMARY:Read With a Therapy dog
UID:65679
DTSTAMP:20260423T071500Z
DTSTART:20260515T001500Z
DTEND:20260515T003000Z
LOCATION:1875 S 2000 W, Syracuse, UT 84075, United States
ROOM: Small Conference Room (SYR)
DESCRIPTION:Read with a therapy dog at the library! Sign up for a 15 minut
 e slot to read with a dog. If this slot is filled, search &quot;therapy d
 og&quot; as a keyword search for additional opportunities at this or other
  locations.For the comfort and safety of the therapy animals, we ask that 
 no more than 4 people total attend any one 15 minute session. Please only 
 sign up one individual per slot or list a family name if you would like to
  attend as a family.
URL:https://daviscounty.librarycalendar.com/event/copy-read-therapy-dog-65
 679
END:VEVENT
END:VCALENDAR
