BEGIN:VCALENDAR
VERSION:2.0
PRODID:-//Library Market//iCal Export//EN
BEGIN:VEVENT
SUMMARY:Karlie Ady Studio Masterclass
UID:65633
DTSTAMP:20260424T154600Z
DTSTART:20260430T220000Z
DTEND:20260430T234500Z
LOCATION:45 S 400 W, Centerville, UT 84014, United States
ROOM: Auditorium (CTV)
DESCRIPTION:A guest will come and offer feedback to my students on their p
 erformances.
URL:https://daviscounty.librarycalendar.com/event/karlie-ady-studio-master
 class-65633
END:VEVENT
END:VCALENDAR
