BEGIN:VCALENDAR
VERSION:2.0
PRODID:-//Library Market//iCal Export//EN
BEGIN:VEVENT
SUMMARY:Foothills at Cherry Lane HOA
UID:65544
DTSTAMP:20260422T213300Z
DTSTART:20260509T163000Z
DTEND:20260509T183000Z
LOCATION:155 N Wasatch Dr, Layton, UT 84041, United States
ROOM: Auditorium (LYTN)
DESCRIPTION:Annual HOA meeting for Foothills at Cherry Lane  and election 
 of new board members
URL:https://daviscounty.librarycalendar.com/event/foothills-cherry-lane-ho
 a-65544
END:VEVENT
END:VCALENDAR
