BEGIN:VCALENDAR
VERSION:2.0
PRODID:-//Library Market//iCal Export//EN
BEGIN:VEVENT
SUMMARY:Voice Recital
UID:65542
DTSTAMP:20260422T213300Z
DTSTART:20260425T200000Z
DTEND:20260425T220000Z
LOCATION:215 N Fairfield Rd, Kaysville, UT 84037, United States
ROOM: Auditorium (KYV)
DESCRIPTION:I will be having students perform their voice recital piece in
 to the microphones, using backing tracks from my laptop, through your soun
 d system. Friends and family will be invited. Thank you!
URL:https://daviscounty.librarycalendar.com/event/voice-recital-65542
END:VEVENT
END:VCALENDAR
