BEGIN:VCALENDAR
VERSION:2.0
PRODID:-//Library Market//iCal Export//EN
BEGIN:VEVENT
SUMMARY:Play &amp; Learn
UID:64344
DTSTAMP:20260421T132600Z
DTSTART:20261130T173000Z
DTEND:20261130T183000Z
LOCATION:1 N Main St, Clearfield, UT 84015, United States
ROOM: Auditorium (CLFD)
DESCRIPTION:A weekly play session for preschoolers and caregivers.Come hav
 e fun at the library and build early literacy skills with games and activi
 ties.
URL:https://daviscounty.librarycalendar.com/event/play-learn-64344
END:VEVENT
END:VCALENDAR
