BEGIN:VCALENDAR
VERSION:2.0
PRODID:-//Library Market//iCal Export//EN
BEGIN:VEVENT
SUMMARY:Storytime
UID:64326
DTSTAMP:20260419T172700Z
DTSTART:20261112T173000Z
DTEND:20261112T183000Z
LOCATION:1 N Main St, Clearfield, UT 84015, United States
ROOM: Auditorium (CLFD)
DESCRIPTION:Come join us as we read stories and focus on early literacy sk
 ills through &quot;Talk, Sing, Read, Write, Play.&quot; This storytime is 
 geared toward ages 3-6 but all ages are welcome. 
URL:https://daviscounty.librarycalendar.com/event/storytime-64326
END:VEVENT
END:VCALENDAR
