BEGIN:VCALENDAR
VERSION:2.0
PRODID:-//Library Market//iCal Export//EN
BEGIN:VEVENT
SUMMARY:Storytime
UID:64267
DTSTAMP:20260419T172700Z
DTSTART:20261124T203000Z
DTEND:20261124T213000Z
LOCATION:1 N Main St, Clearfield, UT 84015, United States
ROOM: Auditorium (CLFD)
DESCRIPTION:A structured time for children to interact with books, develop
  early literacy skills, learn to be in a group, pay attention, take turns,
  and participate in age-appropriate literacy-based activities.Storytime al
 so helps show parents and caregivers ways they can help their child intera
 ct with books and develop early literacy skills. 
URL:https://daviscounty.librarycalendar.com/event/storytime-64267
END:VEVENT
END:VCALENDAR
