BEGIN:VCALENDAR
VERSION:2.0
PRODID:-//Library Market//iCal Export//EN
BEGIN:VEVENT
SUMMARY:Chess Night in Bountiful
UID:64142
DTSTAMP:20260419T172700Z
DTSTART:20261105T010000Z
DTEND:20261105T030000Z
LOCATION:Davis County Library, 85 N Main St., Bountiful, UT 84010, United 
 States
ROOM: Chess Night in Bountiful
DESCRIPTION:Open play chess  --- use our sets or bring your own!
URL:https://daviscounty.librarycalendar.com/event/chess-night-bountiful-64
 142
END:VEVENT
END:VCALENDAR
