BEGIN:VCALENDAR
VERSION:2.0
PRODID:-//Library Market//iCal Export//EN
BEGIN:VEVENT
SUMMARY:Leveraging Scouting in Davis County
UID:63969
DTSTAMP:20260423T221500Z
DTSTART:20260528T010000Z
DTEND:20260528T020000Z
LOCATION:133 S Main St, Farmington, UT 84025, United States
ROOM: Auditorium (HD)
DESCRIPTION:Join volunteers in Davis County to plan ways to use Scouting t
 o benefit all youth in Davis County.
URL:https://daviscounty.librarycalendar.com/event/leveraging-scouting-davi
 s-county-63969
END:VEVENT
END:VCALENDAR
