BEGIN:VCALENDAR
VERSION:2.0
PRODID:-//Library Market//iCal Export//EN
BEGIN:VEVENT
SUMMARY:Elephant &amp; Piggie Party
UID:56601
DTSTAMP:20260423T142700Z
DTSTART:20260513T003000Z
DTEND:20260513T013000Z
LOCATION:1 N Main St, Clearfield, UT 84015, United States
ROOM: Auditorium (CLFD)
DESCRIPTION:You are invited to a party! Come celebrate Mo Willems and his 
 wonderful characters with an Elephant and Piggie themed party. Answer ques
 tions, like &quot;Would you let the pigeon drive the bus?&quot; Play games
 , and make crafts related to our favorite characters. 
URL:https://daviscounty.librarycalendar.com/event/childrensfamily-program-
 56601
END:VEVENT
END:VCALENDAR
