BEGIN:VCALENDAR
VERSION:2.0
PRODID:-//Library Market//iCal Export//EN
BEGIN:VEVENT
SUMMARY:Storytime
UID:56319
DTSTAMP:20260419T172700Z
DTSTART:20261104T173000Z
DTEND:20261104T180000Z
LOCATION:1875 S 2000 W, Syracuse, UT 84075, United States
ROOM: Auditorium (SYR)
DESCRIPTION:Come join us as we read stories, play games, sing songs and le
 arn early literacy skills.  This story time is geared toward ages 3-6 but
  all ages are welcome. 
URL:https://daviscounty.librarycalendar.com/event/storytime-56319
END:VEVENT
END:VCALENDAR
