BEGIN:VCALENDAR
VERSION:2.0
PRODID:-//Library Market//iCal Export//EN
BEGIN:VEVENT
SUMMARY:Felted Gnomes for Teens
UID:51827
DTSTAMP:20260423T172700Z
DTSTART:20260529T003000Z
DTEND:20260529T013000Z
LOCATION:1 N Main St, Clearfield, UT 84015, United States
ROOM: Auditorium (CLFD)
DESCRIPTION:Come make 2D felted gnomes! Supplies will be supplied, but are
  limited.This program is intended for Teens (7th - 12th grade)
URL:https://daviscounty.librarycalendar.com/event/teen-program-51827
END:VEVENT
END:VCALENDAR
