BEGIN:VCALENDAR
VERSION:2.0
PRODID:-//Library Market//iCal Export//EN
BEGIN:VEVENT
SUMMARY:LEGO @ the Library
UID:50204
DTSTAMP:20260421T132600Z
DTSTART:20261113T210000Z
DTEND:20261113T223000Z
LOCATION:45 S 400 W, Centerville, UT 84014, United States
ROOM: LEGO @ the Library
DESCRIPTION:
URL:https://daviscounty.librarycalendar.com/event/legos-library-50204
END:VEVENT
END:VCALENDAR
