BEGIN:VCALENDAR
VERSION:2.0
PRODID:-//Library Market//iCal Export//EN
BEGIN:VEVENT
SUMMARY:STEAM Night
UID:49314
DTSTAMP:20260423T142700Z
DTSTART:20260512T003000Z
DTEND:20260512T013000Z
LOCATION:215 N Fairfield Rd, Kaysville, UT 84037, United States
ROOM: Auditorium (KYV)
DESCRIPTION:Come join us for a variety of activities as we explore all thi
 ng STEAM.
URL:https://daviscounty.librarycalendar.com/event/steam-night-49314
END:VEVENT
END:VCALENDAR
