BEGIN:VCALENDAR
VERSION:2.0
PRODID:-//Library Market//iCal Export//EN
BEGIN:VEVENT
SUMMARY:Storytime
UID:48722
DTSTAMP:20260421T132600Z
DTSTART:20261110T173000Z
DTEND:20261110T183000Z
LOCATION:215 N Fairfield Rd, Kaysville, UT 84037, United States
ROOM: Auditorium (KYV)
DESCRIPTION:A structured time for children to interact with books, develop
  early literacy skills, learn to be in a group, pay attention, take turns,
  and participate in age-appropriate literacy-based activities.Storytime al
 so helps show parents and caregivers ways they can help their child intera
 ct with books and develop early literacy skills. Come join us as we read 
 stories and  focus on early literacy skills through &quot;Talk, Sing, Rea
 d, Write, Play&quot;. This story time is geared toward ages 3-6 but all ag
 es are welcome. 
URL:https://daviscounty.librarycalendar.com/event/storytime-48722
END:VEVENT
END:VCALENDAR
