BEGIN:VCALENDAR
VERSION:2.0
PRODID:-//Library Market//iCal Export//EN
BEGIN:VEVENT
SUMMARY:Game Night
UID:48321
DTSTAMP:20260423T142700Z
DTSTART:20260512T003000Z
DTEND:20260512T023000Z
LOCATION:133 S Main St, Farmington, UT 84025, United States
ROOM: Auditorium (HD)
DESCRIPTION:Come play board games at the library! Have fun, meet new frien
 ds, and get prizes! Games for all ages!
URL:https://daviscounty.librarycalendar.com/event/beyond-books-48321
END:VEVENT
END:VCALENDAR
